BEGIN:VCALENDAR
VERSION:2.0
PRODID:-//KPG Hubs by KorPunGun Co.,Ltd. - ECPv6.10.1.1//NONSGML v1.0//EN
CALSCALE:GREGORIAN
METHOD:PUBLISH
X-WR-CALNAME:KPG Hubs by KorPunGun Co.,Ltd.
X-ORIGINAL-URL:https://hub.korpungun.com
X-WR-CALDESC:Events for KPG Hubs by KorPunGun Co.,Ltd.
REFRESH-INTERVAL;VALUE=DURATION:PT1H
X-Robots-Tag:noindex
X-PUBLISHED-TTL:PT1H
BEGIN:VTIMEZONE
TZID:Asia/Bangkok
BEGIN:STANDARD
TZOFFSETFROM:+0700
TZOFFSETTO:+0700
TZNAME:+07
DTSTART:20250101T000000
END:STANDARD
END:VTIMEZONE
BEGIN:VEVENT
DTSTART;TZID=Asia/Bangkok:20250405T100000
DTEND;TZID=Asia/Bangkok:20250405T113000
DTSTAMP:20260424T040728
CREATED:20250318T091952Z
LAST-MODIFIED:20250405T034959Z
UID:8570-1743847200-1743852600@hub.korpungun.com
SUMMARY:สัมมนาออนไลน์ เรียนภาษาที่ ILSC แคนาดา และ เรียน & ทำงาน (Co-op) กับ Greystone College แคนาดา
DESCRIPTION:สัมมนาออนไลน์ เรียนภาษาที่ ILSC แคนาดา และ เรียน & ทำงาน (Co-op) กับ Greystone College แคนาดา  \n\nร่วมพูดคุยกับเจ้าหน้าที่สถาบัน ILSC Language Schools & Greystone College แบบออนไลน์ผ่าน Zoom ที่จะมาแนะนำเกี่ยวกับหลักสูตรภาษาอังกฤษทั้ง General English\, English for Academic Purposes\, University Pathway Program และ Greystone Pathway Program ตอบโจทย์เป้าหมายการเรียนภาษาอังกฤษที่แตกต่างของผู้เรียน รวมไปถึงโปรแกรม Study & Work (co-op) ในสาขายอดนิยมอย่าง Business\, Hospitality\, Digital Marketing และ Technology เรียนและเก็บประสบการณ์ทำงานจริงในสาขาที่เรียนในแคนาดา \n\nวันเสาร์ที่ 5 เมษายน 2568เวลา 10:00 – 11:30 น.*ตามเวลาในประเทศไทย \n\nผ่านโปรแกรม ZOOM Cloud Meetingsลงทะเบียนเพื่อรับ Zoom Meeting ID คลิก \n\n\n\n\n  \n\nสอบถามข้อมูลเพิ่มเติมติดต่อ Line : @korpungun \n\n\n\n\nฟรี ! ไม่มีค่าใช้จ่าย แนะนำสำหรับ \n\nนักเรียนและผู้ปกครองที่มีความสนใจที่จะเรียนภาษาอังกฤษที่ ILSC Language Schools หรือ Study & Work (Co-op) ในแคนาดาที่ Greystone College ในหลักสูตรดังต่อไปนี้ \n\n• English Programs: เรียนภาษาอังกฤษในหลักสูตร General English\, English for Academic Purposes\, University Pathway Program และ Greystone Pathway Program ได้ทั้งการเรียนออนไลน์และเรียนที่แคนาดา พร้อมกำหนดระยะเวลาเรียน (ขั้นต่ำ 4 สัปดาห์) ตามความต้องการของผู้เรียน \n\n• Diploma with Co-op Programs: เรียนและทำงานในสาขาที่เรียน เก็บเกี่ยวความรู้และประสบการณ์จริงทั้งในและนอกห้องเรียนกับสาขาการเรียนใน Business\, Hospitality\, Digital Marketing และ Technology \n\n\nหัวข้อที่จะให้ข้อมูลและแนะนำ \n\n• รายละเอียดสถาบัน– บรรยากาศและสถานที่ตั้ง– ตัวเลือกสาขาการเรียน• ข้อกำหนดในการสมัคร– เริ่มสมัครได้เมื่อไหร่?– ต้องยื่นเอกสารอะไรบ้าง?• บริการสำหรับนักศึกษา– ตัวเลือกที่พักของวิทยาลัย– บริการให้คำแนะนำเรื่องการหางาน (Co-op & Career support) \n\n\nผู้ร่วมแบ่งปันข้อมูลให้คำแนะนำ และตอบคำถาม \n\n\n\nM SupachaiILSC Language Schools & Greystone CollegeRegional Sales Manager\, Thailand and South East Asia \n\n\n\nNitcha KhitchantasakunKPG OverseasStudent Services Support \n\n\n\n\nCredit : ILSC Education Group\n\nILSC Language Schools และ Greystone College ตั้งอยู่ใน 3 เมืองหลักของแคนาดา โดยเฉพาะ Vancouver และ Toronto โดยทุกแคมปัสตั้งอยู่ในทำเลที่สะดวกสบายและสามารถเดินทางได้ง่ายผ่านระบบขนส่งสาธารณะ ตั้งอยู่ในย่านศูนย์กลางธุรกิจ (CBD) รายล้อมไปด้วยร้านอาหาร คาเฟ่ แหล่งช้อปปิ้ง และสิ่งอำนวยความสะดวกต่าง ๆ นักเรียนสามารถเดินจากสถานีรถไฟฟ้าเพียง 2-3 นาที ทำให้การเดินทางและการใช้ชีวิตสะดวกสบาย \n\nแต่ละแคมปัสของ Greystone College มีเอกลักษณ์เฉพาะตัวและโอกาสในการเรียนรู้เชิงอุตสาหกรรมที่แตกต่างกัน ทางสถาบันมีประสบการณ์มากกว่า 15 ปี ในการจัดอบรมหลักสูตรวิชาชีพคุณภาพสูง ทั้งสำหรับ นักศึกษาในประเทศและนักศึกษาต่างชาติ โดยมุ่งเน้นให้ผู้เรียนได้รับทักษะที่สามารถนำไปใช้ได้จริงในสายอาชีพ \n\nจุดเด่นของ ILSC Language Schools และ Greystone College \n\n• ILSC ได้รับรางวัล ST Star Awards และ Greystone College ของ ILSC ได้รับรางวัล ST Star Vocational College• มีหลักสูตรที่พร้อมตอบโจทย์ความต้องการที่หลากหลายของผู้เรียน เช่น General English\, French\, Cambridge / IELTS test prep\, University Pathway\, Junior ESL\, Volunteer English\, Business English\, 30 & Beyond และรวมถึงวิชาเรียนที่หลากหลาย ให้นักเรียนได้ฝึกพัฒนาทักษะภาษาในบริบทต่างๆ หรือด้วยวิธีการที่แตกต่าง เช่น Medical English\, Creative writing (Story Telling\, Acting\, Film)• ILSC มีวิชาเรียน English through City จัดการเรียนการสอนภาษาอังกฤษนอกห้องเรียน โดยแต่ละคาบ ชั้นเรียนจะนัดพบกันตามจุดต่างๆของเมือง เพื่อการสำรวจ ทำกิจกรรมและเรียนรู้ร่วมกัน โดยมีชื่อวิชาเรียนว่า English through Vancouver หรือ English through Toronto ซึ่งจะนักเรียนจะได้เรียนและฝึกใช้ภาษาอังกฤษจากการปฏิบัติใช้จริง• มีแคมปัสที่ Montreal สำหรับคนที่สนใจเรียนภาษาฝรั่งเศส หรือเรียนภาษาอังกฤษ โดยที่ได้ฝึกใช้ภาษาฝรั่งเศสไปด้วย• Greystone College ของ ILSC สำหรับโปรแกรมการเรียน Work & Study (Co-op) การเรียนและทำงานในแคนาดาเปิดสอนหลักสูตรประกาศนียบัตรที่หลากหลาย ผู้เรียนยังมีโอกาส ทำงานนอกวิทยาเขต หรือเข้าร่วม โปรแกรม Co-op ซึ่งเป็นส่วนหนึ่งของหลักสูตร เพื่อเพิ่มประสบการณ์การทำงานจริงและเตรียมความพร้อมสู่ตลาดแรงงาน \n\nเพิ่มเติมเกี่ยวกับ ILSC Language Schools คลิก \n\nเพิ่มเติมเกี่ยวกับ Greystone College คลิก \n\nPhoto Credits : ILSC Education Group \n\n\nแบบฟอร์มลงทะเบียน \n\nงานสัมมนานี้ได้ผ่านไปเป็นที่เรียบร้อยแล้ว สนใจติดตามงานสัมมนาอื่นได้เร็วๆ นี้ คลิกที่นี่สอบถามข้อมูลเพิ่มเติม ติดต่อเราได้ที่ LINE OA: @korpungun
URL:https://hub.korpungun.com/event/ilsc-greystone-webinar/
ATTACH;FMTTYPE=image/jpeg:https://hub.korpungun.com/wp-content/uploads/2025/03/ILSC-Greystone-College-Webinar-SAT.-05.04.25.jpeg
END:VEVENT
END:VCALENDAR