BEGIN:VCALENDAR
VERSION:2.0
PRODID:-//KPG Hubs by KorPunGun Co.,Ltd. - ECPv6.10.1.1//NONSGML v1.0//EN
CALSCALE:GREGORIAN
METHOD:PUBLISH
X-ORIGINAL-URL:https://hub.korpungun.com
X-WR-CALDESC:Events for KPG Hubs by KorPunGun Co.,Ltd.
REFRESH-INTERVAL;VALUE=DURATION:PT1H
X-Robots-Tag:noindex
X-PUBLISHED-TTL:PT1H
BEGIN:VTIMEZONE
TZID:Asia/Bangkok
BEGIN:STANDARD
TZOFFSETFROM:+0700
TZOFFSETTO:+0700
TZNAME:+07
DTSTART:20250101T000000
END:STANDARD
END:VTIMEZONE
BEGIN:VEVENT
DTSTART;TZID=Asia/Bangkok:20250208T133000
DTEND;TZID=Asia/Bangkok:20250208T170000
DTSTAMP:20260424T055626
CREATED:20250109T121330Z
LAST-MODIFIED:20250209T132646Z
UID:8482-1739021400-1739034000@hub.korpungun.com
SUMMARY:Summer of Learning : Study in English in the Philippines Fair by KPG Feb 8th 2025
DESCRIPTION:นิทรรศการเรียนภาษาอังกฤษที่ฟิลิปปินส์ 8 กุมภาพันธ์ 2568Summer of Learning : Study in English in the Philippines Fair \n\nพบกับตัวแทนจากสถาบันสอนภาษาอังกฤษชั้นนำในเมืองเซบูและ เมืองบาเกียว ที่จะมามอบข้อมูลและคำแนะนำเชิงลึกเกี่ยวกับการ #เรียนภาษาอังกฤษที่ฟิลิปปินส์ ทั้งหลักสูตรเข้มข้นและการเตรียมสอบ IELTS พิเศษภายในงานนี้เท่านั้นให้คุณได้ทดลองเรียนภาษาอังกฤษกับครูฟิลิปปินส์ฟรี! \n\nและพลาดไม่ได้กับ Session แนะนำ “CEBU Summer Camp 2025” ค่ายภาษาอังกฤษที่ออกแบบมาเพื่อนักเรียนอายุ 10-18 ปี มาร่วมค้นหาว่าทำไมแคมป์ที่เซบูจึงเป็นตัวเลือกที่ดีที่สุดสำหรับการพัฒนาทักษะภาษาอังกฤษของน้องๆ ในช่วงปิดเทอมซัมเมอร์นี้! \n\nโอกาสดีๆสำหรับนักศึกษามหาวิทยาลัย! มาพูดคุยวางแผนพัฒนาทักษะภาษาอังกฤษหรือเตรียมตัวสอบ IELTS TOEIC ช่วงปิดเทอมไปพร้อมกันได้ในงาน \n\nลองสัมผัสประสบการณ์เรียนฟรี! มาร่วมเรียนรู้และฝึกฝนกับครูผู้สอนมืออาชีพผ่านนิทรรศการนี้ \n\nไฮไลท์เด็ดที่คุณไม่ควรพลาด: \n\n• ทดลองเรียนฟรี: แบบตัวต่อตัว กับครูชาวฟิลิปปินส์ตัวจริงเสียงจริง• ปรึกษาฟรี เรียนภาษาที่ฟิลิปปินส์: กับเจ้าหน้าที่ให้คำปรึกษาของ KPG ที่มีข้อมูลเชิงลึกและเจ้าหน้าที่จากสถาบันภาษาชั้นนำ 10 สถาบัน• Session : แนะนำ CEBU Summer Camp 2025• พูดคุยกับนักเรียนตัวจริง ที่ไปเรียนที่เมืองเซบู และเมืองบาเกียว แชร์ประสบการณ์จริงและตอบคำถาม• ส่วนลดพิเศษหรือของสัมมนาคุณ (แต่ละสถาบันอาจมีโปรโมชั่นแตกต่างกัน) สำหรับโปรแกรมการเรียนภาษาอังกฤษที่ฟิลิปปินส์ \n\nวันเสาร์ที่ 8 กุมภาพันธ์ 2568เวลา 13:30 – 17:00 น. \n\nสถานที่จัดงานTrue Space Siam Square Soi 2 ชั้น 3ใกล้ BTS สยาม Exit 2 (เดิน 2 นาที)(คลิกเพื่อรับชมแผนที่) \n\nลงทะเบียน เพื่อรับอีเมลยืนยันการเข้าร่วมงาน คลิก \n\n\n\n\n  \n\nสอบถามข้อมูลเพิ่มเติมติดต่อ LINE OA : @kpglearn \n\n\n\n\nกำหนดการ \n\n13:30 – 13:40 น.ลงทะเบียนและรับของที่ระลึก13:40 – 14:40 น.แนะนำ CEBU Summer Camp โดย KPG และ คุณยุ้ย GLC14:00 – 17:00 น. พูดคุยแบบใกล้ชิดกับนักเรียนใน เซบู และ บาเกียว (โดยศิษย์เก่า)13:40 – 17:00 น.เข้ารับคำปรึกษาจากสถาบันแบบตัวต่อตัว และ ทดลองเรียนกับครูฟิลิปปินส์ \n\nฟรี ! ไม่มีค่าใช้จ่าย แนะนำสำหรับ \n\n1) ผู้ที่มีความสนใจไปเรียนภาษาอังกฤษในต่างประเทศ (ทั้งนักเรียน นักศึกษา วัยทำงานหรือวัยเกษียณ) เพื่อพัฒนาทักษะการสื่อสารภาษาอังกฤษ สำหรับการใช้งานทั่วไป การทำงาน หรือการเตรียมศึกษาต่อต่างประเทศ \n\n2) ผู้ที่มีความสนใจไปเรียนภาษาอังกฤษในต่างประเทศ เพื่อพัฒนาผลสอบ IELTS\, TOEIC หรือ TOEFL โดยมีหลักสูตรที่รวมการสอบข้อสอบ official test และการันตีการเพิ่มขึ้นของคะแนนสอบ \n\n3) ผู้ปกครองที่สนใจส่งบุตร/หลานไปเรียน ฝึกฝนทักษะภาษาอังกฤษแบบเข้มข้นในต่างประเทศในช่วงปิดเทอม \n\n\nวัตถุประสงค์ของงาน \n\nเพื่อให้ผู้ที่สนใจเรียนภาษาอังกฤษในต่างประเทศได้พบกับเจ้าหน้าที่ของสถาบันภาษาชั้นนำจากประเทศฟิลิปปินส์ และทีมงานของ KPG เพื่อปรึกษา รับข้อมูล คำแนะนำ และวางแผนการเรียนภาษาที่ฟิลิปปินส์ โดยเฉพาะ \n\nสถาบันที่จะสามารถมาพบได้ภายในงาน \n\n\nCebu Blue Ocean Academy (CBOA) – เมือง Cebu\n\nCebu Blue Ocean Academy (CBOA) เป็นสถาบันที่ให้ความสำคัญในการสอนภาษาอังกฤษ คัดเลือกคุณครูมีคุณภาพผ่านการรับรองมาตรฐาน เพื่อการพัฒนาทักษะภาษาอังกฤษของนักเรียนอย่างรวดเร็วและมีประสิทธิภาพที่สุด เพราะนักเรียนสำคัญที่สุดสำหรับเรา ซึ่ง CBOA เป็นสถาบันในเครือของ Pines International Academy ที่เมืองบาเกียว ประเทศฟิลิปปินส์ \n\nภาพรวมและจุดเด่น \n\n• คุณภาพและมาตรฐาน: CBOA ให้ความสำคัญกับ “คุณภาพการสอนภาษาอังกฤษ” เพื่อให้นักเรียนได้เรียนภาษาอังกฤษอย่างมีประสิทธิภาพกับคุณครูชาวฟิลิปปินส์ที่ได้รับการรับรองมาตรฐาน ที่มีความรู้และประสบการณ์ในการสอนภาษาอังกฤษอย่างดี• สภาพแวดล้อม: CBOA ตั้งอยู่ในเมืองเซบูที่เป็นเมืองติดทะเล มีห้องพักที่สามารถมองเห็นวิวทะเลได้ พร้อมด้วยสิ่งอำนวยความสะดวกครบครัน ที่จะช่วยให้การเรียนภาษาอังกฤษของคุณไม่น่าเบื่อ ได้ฝึกภาษาอังกฤษในสถานการณ์จริงและสามารถสื่อสารกับคนท้องถิ่นและนักเรียนจากทั่วโลกได้• คอร์สเรียน: CBOA มีคอร์สเรียนให้เลือกหลากหลายตามความต้องการของผู้เรียน มีการเรียนการสอนที่เน้นแบบตัวต่อตัวมากกว่ากลุ่มใหญ่ และยังมีคลาสเสริม (Option Class) ที่คุณสามารถเลือกเรียนเพิ่มเติมได้ ตอบโจทย์ผู้เรียนที่ต้องการใช้เวลาไปกับการฝึกฝนภาษาอังกฤษ• จุดเด่นอื่นๆของ CBOA– มีการวัดระดับภาษา เพื่อจัดระดับคอร์สเรียนให้เหมาะสม– คลาสเรียนแบบตัวต่อตัว และ กลุ่มเล็กๆ– มีจำนวนชั่วโมงเรียนที่เหมาะสม– ได้แลกเปลี่ยนวัฒนธรรมกับชาติต่างๆ \n\nเพิ่มเติมเกี่ยวกับ Cebu Blue Ocean Academy คลิก \n\nGLC : Global Language Cebu – เมือง Cebu\n\nGLC : Global Language Cebu โรงเรียนสอนภาษาโฉมใหม่ของ IDEA Cebu เปิดทำการตั้งแต่ปี ค.ศ. 2011 เป็นหนึ่งในสถาบันสอนภาษาอังกฤษชั้นนำในประเทศฟิลิปปินส์ ซึ่งได้ต้อนรับนักเรียนกว่า 10\,000 คน จาก​ญี่ปุ่น รวมถึงประเทศอื่นๆ ในเอเชีย ยุโรป และอเมริกาใต้ GLC ให้ความสำคัญกับ LEARN\, HAVE FUN\, EXPERIENCE ให้ผู้เรียนได้เรียนในชั้นเรียน สนุกสนามไปกับกิจกรรมต่างๆ พร้อมกับมีประสบการณ์ใหม่ๆ ร่วมกับเพื่อนต่างชาติ สำหรับการพัฒนาทักษะการสื่อสารภาษาอังกฤษ \n\nภาพรวมและจุดเด่น \n\n• Quality : ครูผู้สอนที่มีมาตรฐานและคุณภาพ GLC เป็นสถาบันเดียวในเซบู ที่ได้รับการรับรองให้เป็น CELTA training center ซึ่งเป็นหน่วยงานด้านมาตรฐานและคุณภาพของมหาวิทยาลัย Cambridge ประเทศอังกฤษ​ และผู้สอนของ GLC 15% มีคุณสมบัติตามมาตรฐานของ CELTA รวมถึงบทเรียนที่อิงตามมาตรฐานการจัดระดับภาษาอังกฤษสากล (CEFR: Common European Framework)• Best Location : สถาบัน GLC ตั้งอยู่ใจกลางเมือง Cebu มีแหล่งการค้า รวมถึงสถานที่สำหรับการทำกิจกรรม การพบปะสังสรรค์อื่นๆ เช่น ร้านค้า ร้านอาหาร ตลาดกลางคืน เพื่อให้ผู้เรียนได้ออกไปทำกิจกรรมและแบ่งปันประสบการณ์ร่วมกัน โดยการใช้ภาษาอังกฤษเป็นสื่อกลางในการสื่อสาร• Communicative Method : GLC ใช้แนวทาง Communicative Method ในการสอนภาษาอังกฤษ เพื่อการพัฒนาได้อย่างรวดเร็วในระยะเวลาสั้นๆ โดยการเน้นการสื่อสาร และแนวทาง PREP (การฝึกฝนการโต้ตอบ) และ active listening ในการพัฒนาทักษะการสื่อสาร• I.T. Learning : GLC ใช้เทคโนโลยีในการสนับสนุนการเรียนรู้ ไม่ว่าจะเป็นระบบ AI ในการประเมินผล แบบเรียนดิจิทอล เพื่อสนับสนุนการเรียนรู้ผ่านโทรศัพท์และ tablet ที่ผู้เรียนสามารถทบทวนและรีวิวเมื่อไหร่และจากที่ใดก็ได้• Staff Support : สถาบันมีเจ้าหน้าสนับสนุนนักเรียนจากนานาประเทศ รวมถึงเจ้าหน้าที่คนไทยที่จะคอยช่วยดูแลและให้คำแนะนำกับนักเรียน \n\nเพิ่มเติมเกี่ยวกับ GLC : Global Language Cebu คลิก \n\nEV Academy – เมือง Cebu (Virtual)\n\nEV Academy สถาบันสอนภาษาอังกฤษชั้นนำในเมือง Cebu ประเทศฟิลิปปินส์ เปิดทำการตั้งแต่ปี 2004 โดย EV มีบริการแบบครบวงจรตั้งแต่หลักสูตรการเรียนภาษาอังกฤษ ที่พักในแคมปัส อาหารและกิจกรรม ใน 18 ปีที่ผ่านมา EV ได้ดำเนินการสอนนักเรียนมาแล้วกว่า 13\,000 คนจากมากกว่า 17 ประเทศ \n\nภาพรวมและจุดเด่น \n\n• แคมปัสได้นับการออกแบบมาอย่างดี อยู่สบาย (เสมือนไปพักผ่อนอยู่ในรีสอร์ท) โฟกัสกับการเรียนได้เต็มที่• มีสตาฟคอยช่วยเหลือนักเรียนหลากหลาย ตลอดเวลา ที่นี่มีสตาฟหลายเชื้อชาติและพูดได้หลายภาษา เช่น เกาหลี ญี่ปุ่น จีน รัสเซีย รวมถึงเจ้าหน้าที่คนไทย• เหมาะกับคนที่ต้องการเรียนภาษาแบบเข้มข้นและมีเวลาจำกัด• ครูในสถาบัน มีประสบการณ์สอนภาษา และสนใจความรู้รอบตัว ประวัติศาสตร์ วัฒนธรรม ข่าวสาร และ EV Academy มีเปิดสอนหลักสูตร IELTS Guarantee ผลสอบ IELTS อีกด้วย \n\nเพิ่มเติมเกี่ยวกับ EV Academy คลิก \n\nPhilinter Academy- เมือง Cebu\n\nPhilinter สถาบันภาษาที่เปิดมาอย่างยาวนานกว่า 20 ปี เป็นสถาบันภาษาแรกที่มีการคัดลือกครูผู้สอนที่มีวุฒิการศึกษาตรงตามมาตรฐาน อีกทั้งยังเป็นผู้ริเริ่มระบบ Buddy Teacher ในปัจจุบัน เรียกได้ว่าเป็น 1 ในสถาบันที่พลิกโฉมคอร์ส ESL ในวงการเรียนภาษาอังกฤษที่ฟิลิปปินส์ให้เปลี่ยนไปตลอดการ ซึ่งประกอบด้วยมาตรฐานการคัดเลือกครู และหลักสูตรที่เน้นให้ผู้เรียนไปถึงเป้าหมายที่ต้องการ \n\nภาพรวมและจุดเด่น \n\n• PHILINTER ผู้นำมาตรฐานการคัดเลือกครูที่มีวุฒิการศึกษา และ เริ่มใช้ระบ Buddy Teacher ให้ครูเป็นเพื่อนนักเรียนแต่ละคน ส่งเสริมและพัฒนาทักษะการการเรียนรู้สำหรับนักเรียน• สถาบันอยู่ในโลเคชั่นที่ปลอดภัย สามารถไปทำกิจกรรมทางน้ำ เล่นกีฬา หรือ ไปศูนย์การค้าได้ง่าย อีกทั้งยังอยู่ใกล้สนามบิน Mactan International Airport เพียง 10 นาที• หลักสูตรของ PHILINTER ที่มุ่งเน้นการช่วยให้นักเรียนเข้าใจภาพรวมและบริบทของสิ่งที่จะต้องเรียนรู้ และช่วยเพิ่มแรงจูงใจและประสิทธิภาพในการเรียนรู้โดยการเห็นความความเกี่ยวข้องและวัตถุประสงค์ของเนื้อหา• นักเรียนของ PHILINTER สามารถเข้ารับคำปรึกษา หรือ รับคำแนะนำ กับ Academic Coordinator เกี่ยวกับแผนการเรียน \n\nเพิ่มเติมเกี่ยวกับ Philinter Academy คลิก \n\nB’Cebu – เมือง Cebu\n\nB’Cebu เป็นสถาบันสอนภาษาอังกฤษในเครือ API Beci Baguio ที่ตั้งอยู่บนเกาะ Mactan เมืองเซบู ประเทศฟิลิปปินส์ โดดเด่นด้วยการสอนคุณภาพสูงจากครูที่ได้รับการรับรอง ในบรรยากาศการเรียนรู้ที่ทันสมัย พร้อมหลักสูตรที่ออกแบบมาเพื่อช่วยให้คุณบรรลุเป้าหมายทางภาษาได้อย่างมีประสิทธิภาพ! \n\nภาพรวมและจุดเด่น \n\n• B’Cebu ตั้งอยู่บนเกาะมักตัน ใกล้สนามบิน Mactan-Cebu International Airport เพียง 10-15 นาที และรีสอร์ทชื่อดัง เดินทางสะดวกเพียง 5 นาทีถึงร้าน Starbucks\, McDonald’s\, ซูเปอร์มาร์เก็ต และร้านอาหารต่างๆ• มีระบบการจัดเก็บข้อมูลนักเรียนชื่อว่า EDUCARE เฉพาะของ B’Cebu และ BECI Academy ที่จัดเก็บข้อมูลและบันทึกของนักเรียนในระบบออนไลน์อย่างเป็นระเบียบ นักเรียนสามารถเข้าถึงผลการเรียน รายงานความก้าวหน้า รวมไปถึง VDO SP (Speaking Prescription) ได้ง่ายในที่เดียว• B’Cebu มีนักเรียนหลากหลายสัญชาติ เช่น ญี่ปุ่น จีน ไต้หวัน เวียดนาม ตะวันออกกลาง มองโกเลีย ไทย และเกาหลี นักเรียนจะได้เรียนภาษาอังกฤษพร้อมแลกเปลี่ยนวัฒนธรรมและสร้างมิตรภาพกับเพื่อนต่างชาติอย่างเป็นธรรมชาติ \n\nเพิ่มเติมเกี่ยวกับ B’Cebu คลิก \n\nJoyful Education – เมือง Cebu\n\nJoyful Education Center มีหลักสูตรภาษาอังกฤษที่หลากหลายพัฒนาขึ้นเฉพาะสำหรับการสื่อสาร ช่วยให้นักเรียนพัฒนาทักษะได้ในระยะเวลาอันสั้น ที่พักสะดวกสบายอาคารเดียวกับ T-Shine Hotel เป็นโรงแรมใหม่ที่สร้างขึ้นในปี 2022 มีสิ่งอำนวยความสะดวกครบครันมาตรฐานโรงแรม \n\nภาพรวมและจุดเด่น \n\n• ประสบการณ์และความเชี่ยวชาญ โดยทีมผู้บริหารที่มีประสบการณ์กว่า 10 ปีจากโรงเรียนสอนภาษาที่ฟิลิปปินส์ ใช้ความรู้และความเชี่ยวชาญในการดำเนินงานเพื่อพัฒนาหลักสูตรที่มีคุณภาพ• มีหลักสูตรภาษาอังกฤษที่หลากหลายพัฒนาขึ้นเฉพาะสำหรับการสื่อสาร ช่วยให้นักเรียนพัฒนาทักษะได้ในระยะเวลาอันสั้น• เป็นมิตรต่อผู้หญิง• สิ่งอำนวยความสะดวกครบครัน มาตรฐานโรงแรม มีสระว่ายน้ำ ฟิตเนส ห้องเด็กเล่น ร้านนวด และคาเฟ่• ทำเลที่ตั้งยอดเยี่ยม ตั้งอยู่ใกล้รีสอร์ทชื่อดังและสามารถเดินทางไปยังเมืองเซบูได้อย่างง่ายดาย• คอร์สเรียนที่หลากหลาย \n\nเพิ่มเติมเกี่ยวกับ Joyful Education Center คลิก \n\nCampus Top QQ English – เมือง Cebu\n\nCampus top QQEnglish โรงเรียนสอนภาษาสัญชาติญี่ปุ่น ที่มาพร้อมความยืดหยุ่นที่ตอบโจทย์ทุกความต้องการในการเรียนภาษาอังกฤษของทุกเพศทุกวัย สถาบันตั้งอยู่ในเมืองเซบู ประเทศฟิลิปปินส์ มีด้วยกัน 2 แคมปัส ได้แก่ QQ English IT Park Campus และ QQ English Beach Front Campus \n\nภาพรวมและจุดเด่น \n\n• คุณครูได้รับการรับรองจาก TESOL โดยใน 1 ปีคุณครูทุกคนจะได้รับการฝึกอบรมมากกว่า 550 ชั่วโมง อีกทั้ง QQ English ยังมีการประเมินการสอนในทุกเดือน เพื่อให้มั่นใจว่าศักยภาพของคุณครูจะสามารถตอบสนองความต้องการในการเรียนภาษาอังกฤษของนักเรียนจากหลากหลายสัญชาติได้• เอกสารการเรียนของ QQ English สามารถเข้าถึงได้ตลอดเวลาผ่านแอปพลิเคชัน QQ English หรือเว็บไซต์ qqeng.com ทำให้นักเรียนสามารถทบทวนบทเรียนและติดตามการเรียนของตนเองได้จากทุกที่ทุกเวลา• QQ English จะมีการบันทึกคาบเรียน เพื่อติดตามและประเมินคุณภาพของคุณครู และ นักเรียนได้• คอร์สเรียนภาษาอังกฤษที่หลากหลาย และ ยืดหยุ่น• มีนักเรียนหลากหลายสัญชาติ• ออกแบบคาบเรียนได้ตามงบประมาณ• มีเจ้าหน้าที่คนไทยประจำสถาบัน \n\nเพิ่มเติมเกี่ยวกับ Campus top QQEnglish คลิก \n\nI.BREEZE – เมือง Cebu\n\nI.BREEZE International Language Center เปิดตัวอย่างยิ่งใหญ่ในเดือนธันวาคม ปี 2018 พร้อมด้วยสิ่งอำนวยความสะดวกมากมายไม่ว่าจะเป็นห้องนอน หอพัก ยิม สระว่ายน้ำ โรงอาหาร ห้องอาหารเย็นพร้อมด้วยมื้อบุฟเฟ่ต์ นอกจากนี้ยังมีไวไฟไม่จำกัดและอื่น ๆ อีกมากมาย สถาบันตั้งอยู่ใจกลางเมืองเซบู ดังนั้นผู้เรียนจึงเข้าถึงแหล่งชอปปิ้งได้ (SM และ Ayala Mall)\, ร้านอาหาร ซุปเปอร์มาร์เก็ต ร้านนวด และร้านกาแฟ ทีมรักษาความปลอดภัยและกล้องวงจรปิดช่วยดูแลความเรียบร้อยของสถาบันตลอด 24 ชั่วโมง \n\nภาพรวมและจุดเด่น \n\n• Native Teacher Class : I.BREEZE มีครู native ที่อำนวยการสอนวิชาเรียนด้านการออกเสียง รวมถึงด้านการเตรียมสอบวัดระดับภาษา เช่น IELTS\, TOEIC รวมถึง Business English (ทั้งนี้ในคาบเรียนตัวต่อตัว ผู้เรียนจะยังคงเรียนกับครูชาวฟิลิปปินส์)• Writing Activity System : I.BREEZE มีระบบการสอนเพื่อพัฒนาทักษะการเขียน Essay ของผู้เรียน โดยให้ผู้สอนตอน แนะนำในการปรับแก้ และให้ผู้เรียนได้ฝึกแก้ไข• Interview Test Review : I.BREEZE มีระบบสนับสนุนการพัฒนาทักษะด้านภาษาอังกฤษของผู้เรียน โดยผู้เรียนจะต้องให้สัมภาษณ์ โดยสถาบันจะบันทึกวีดีโอ ก่อนเริ่มเรียน ทุกเดือน และก่อนจบการศึกษา พร้อมผู้สอนที่จะช่วยรีวิว และแนะนำในการปรับแก้ไขให้ทุกครั้ง เพื่อความรู้ตัวและการพัฒนาอย่างถูกจุด• ผู้สอนที่มีคุณภาพ : I.BREEZE จ้างผู้สอนผ่านความถนัดเฉพาะด้าน นอกจากนี้ยังมีการเสริมด้วยการฝึกอบรบอย่างเข้มข้น ตั้งแต่การฝึกไวยากรณ์ การทดสอบ แนะนำและสนับสนุนการพัฒนาของครูทุกเดือน และการฝึกอบรมในวันเสาร์ สำหรับครูใหม่ โดยเฉพาะสำหรับการสอนวิชาเรียนหลักสูตร IELTS และ TOEIC• I.BREEZE การจัดการอันดับหนึ่ง : I.BREEZE รับประกันประสบการณ์การเรียนที่น่าพอใจด้วยการจัดการพิเศษที่ให้การสนับสนุนนักเรียนตั้งแต่ต้นจนจบระยะเวลาการศึกษา ไม่ว่าจะเป็น ไปรับที่สนามบิน / ปฐมนิเทศนักเรียนใหม่\, สำเร็จการศึกษา – ให้นักเรียนเข้าใจชีวิตของสถาบันการศึกษา\, นโยบายและการใช้ชีวิตในเซบู การประชุมนักศึกษาใหม่ในสัปดาห์แรก\, การทดสอบปกติและการให้คำปรึกษาด้านการศึกษา – ที่ปรึกษาทั่วไปเกี่ยวกับชั้นเรียน – จากการดูแลทางการแพทย์ขั้นพื้นฐานไปจนถึงการดูแลฉุกเฉิน และการจัดการนักเรียนในเรื่องของการเข้าเรียน \n\nเพิ่มเติมเกี่ยวกับ I.BREEZE คลิก \n\nPines International Academy – เมือง Baguio\n\nPines International Academy สถาบันสอนภาษาอังกฤษที่เมืองบาเกียว ประเทศฟิลิปปินส์ ได้รับการรับการรับรองจาก TESDA และกระทรวงการศึกษาของฟิลิปปินส์ ตั้งอยู่ในพื้นที่ที่เงียบสงบ ไม่วุ่นวายและมีความปลอดภัยสูงของเมืองบาเกียว ตรงข้ามกับ The Mansion House หรือบ้านพักของประธานธิบดีของฟิลิปปินส์ \n\nภาพรวมและจุดเด่น \n\n• มีหลักสูตร แบบเรียนและการจัดระดับภาษาของนักเรียนตามมาตรฐานสากล CEFR อย่างแท้จริง• Pines ร่วมมือกับ British Council และเป็นศูนย์สอบ IELTS อย่างเป็นทางการ Pines เปิดสอนหลักสูตร IELTS Guarantee ด้วยระยะเวลาเรียน 8 หรือ 12 สัปดาห์• มีสองวิทยาเขตในเมืองบาเกียว เพื่อตอบโจทย์ความต้องการที่แตกต่างของผู้เรียน ได้แก่ Main Campus และ Chapis (IELTS) Campus• ตั้งอยู่ใกล้แหล่งท่องเที่ยวและเดินทางสะดวก มีระบบรักษาความปลอดภัย 24 ชม. และมีสิ่งอำนวยความสะดวกครบครัน อาทิ แผนกต้อนรับและดูแลนักเรียน ห้องสมุด คลินิค ห้องออกกำลังกาย โรงอาหาร พร้อมอาหารฮาลาล บริการซักรีด และ cofee shop• มีครูผู้สอนคุณภาพ ต้องผ่านการอบรมและการประเมินตามระบบของสถาบัน• มีเกียรติบัตรมอบนักเรียนให้เมื่อจบการศึกษา ไม่ว่าจะลงเรียนกี่สัปดาห์ก็ตาม \n\nเพิ่มเติมเกี่ยวกับ Pines International Academy คลิก \n\nJIC Academy – เมือง Baguio\n\nJIC ที่ตั้งอยู่ในเมืองบาเกียว ทางตอนเหนือของประเทศฟิลิปปินส์ กับบรรยากาศที่แวดล้อมไปด้วยความธรรมชาติพร้อมเพื่อนๆจากหลายสัญชาติที่จะทำให้ผู้เรียนได้ฝึกภาษาอังกฤษได้อย่างเต็มที่ \n\nภาพรวมและจุดเด่น \n\n• JIC เป็นสถาบันสอนภาษาแรกๆในเมืองบาเกียว ที่สอน IELTS และยังมีคอร์สเรียน IELTS Guarantee สำหรับผู้เรียนที่มีเป้าหมายในการพิชิตคะแนนสอบ• JIC มีการออกแบบคอร์สเรียนที่ปรับได้ตามไลฟ์สไตล์ของผู้เรียน เช่น อยากเรียน ตัวต่อตัว (1:1) 4 คาบต่อวัน ก็สามารถเลือกเรียนแบบ Light Program ได้ หรือ อยากเพิ่มโฟกัสกับการเรียนที่เพิ่มขึ้น JIC ก็มี Standard Program ที่มีคาบเรียนตัวต่อตัว (1:1) 6 คาบต่อวัน เพื่อให้ผู้เรียนได้เพิ่มพูนได้ครบทุกทักษะอย่างเข้มข้น ซึ่งเป็นอีก 1 จุดเด่นของสถาบัน JIC• การสอนคุณภาพสูงจาก ครูของสถาบัน JIC การเสริมสร้างและส่งเสริมให้ผู้สอนมีความสามารถ โดยผ่านการฝึกฝนอย่างต่อเนื่อง และจัดให้มีการทำแบบทดสอบ IELTS Mock Test เพื่อให้ตรงตามมาตรฐาน• ความท้าทาย JIC มีบรรยากาศที่จะทำให้การฝึกฝนภาษาอังกฤษของผู้เรียนเกิดขึ้นได้ตลอดเวลา ซึ่งเป็นการท้าทายความสามารถของผู้เรียนและสามารถทำให้ทักษะภาษาอังกฤษของผู้เรียนเปลี่ยนไปได้อย่างน่าทึ่ง• จุดเด่นของ JIC– คุณภาพการเรียน และ การใช้ชีวิตที่ดี– ความหลากหลายของสัญชาตินักเรียน– ค่าเรียนเป็นมิตรและคุ้มค่า \n\nเพิ่มเติมเกี่ยวกับ JIC Academy คลิก \n\n\n\n\n\nCredits : Cebu Blue Ocean Academy\, Global Language Cebu\, EV Academy\, Philinter Academy\, B’Cebu\, Joyful Education\, Campus Top QQ English\, I.BREEZE\, Pines International Academy\, JIC Academy \n\n\nแบบฟอร์มลงทะเบียน \n\nงานสัมมนานี้ได้ผ่านไปเป็นที่เรียบร้อยแล้ว สนใจติดตามงานสัมมนาอื่นได้เร็วๆ นี้ คลิกที่นี่สอบถามข้อมูลเพิ่มเติม ติดต่อเราได้ที่ LINE OA: @korpungun
URL:https://hub.korpungun.com/event/study-english-philippines-fair-feb-2025/
ATTACH;FMTTYPE=image/jpeg:https://hub.korpungun.com/wp-content/uploads/2025/01/Study-in-English-in-the-Philippines-Fair-SAT.-08.02.25.jpeg
END:VEVENT
BEGIN:VEVENT
DTSTART;TZID=Asia/Bangkok:20250215T100000
DTEND;TZID=Asia/Bangkok:20250215T113000
DTSTAMP:20260424T055627
CREATED:20250128T111353Z
LAST-MODIFIED:20250216T011710Z
UID:8510-1739613600-1739619000@hub.korpungun.com
SUMMARY:Webinar เรียนต่อ Humber Polytechnic - Toronto แคนาดา จบแล้วขอ PGWP ได้
DESCRIPTION:สัมมนาออนไลน์ เรียนต่อแคนาดา Humber Polytechnicเมือง Toronto รัฐ Ontario \n\nร่วมพูดคุยกับเจ้าหน้าที่สถาบัน Humber Polytechnic แบบออนไลน์ผ่าน Zoom ที่จะมาแนะนำกว่า 80 หลักสูตรในแคนาดาที่สามารถขอใบอนุญาตทำงานชั่วคราวได้หลังเรียนจบ (PGWP) ทั้งในระดับป.ตรี Certificate และ Diploma เช่น AI and Machine Learning\, Data Analytics\, UX Design\, Construction Engineering\, Industrial Design\, Digital Business Management\, Game Programming และ Web Design and Development ที่นี่เป็นสถาบันขนาดใหญ่ มีวิทยาเขตถึง 3 แห่งทั้งในเมืองและชานเมือง Toronto นักศึกษาจากสถาบันนี้จะมีโอกาสร่วมงานกับบริษัทใหญ่ในหลากหลายอุตสาหกรรม \n\nวันเสาร์ที่ 15 กุมภาพันธ์ 2568เวลา 10:00 – 11:30 น.*ตามเวลาในประเทศไทย \n\nผ่านโปรแกรม ZOOM Cloud Meetingsลงทะเบียนเพื่อรับ Zoom Meeting ID คลิก \n\n\n\n\n  \n\nสอบถามข้อมูลเพิ่มเติมติดต่อ Line : @korpungun \n\n\n\n\nฟรี ! ไม่มีค่าใช้จ่าย แนะนำสำหรับ \n\nผู้ปกครองและนักเรียนที่มีความสนใจในการเรียนต่อแคนาดาที่ Humber Polytechnic ในหลักสูตรดังต่อไปนี้ \n\n• Diploma (2 ปี)• Advanced Diploma (3 ปี)• Ontario College Certificate (1 ปี)• Ontario Graduate Certificate (1-2 ปี)• Certificate of Achievement (2-3 เทอม)• Honours Degree (4 ปี) \n\n\nหัวข้อที่จะให้ข้อมูลและแนะนำ \n\n• รายละเอียดสถาบันและหลักสูตร– บรรยากาศและสถานที่ตั้ง– ตัวเลือกสาขาการเรียน• บริการสำหรับนักศึกษา– วางแผนการเรียน– ตัวเลือกที่พักของวิทยาลัย• ข้อกำหนดในการสมัคร– ควรเริ่มสมัครได้เมื่อไหร่?– ต้องยื่นเอกสารอะไรบ้าง? \n\n\nผู้ร่วมแบ่งปันข้อมูลให้คำแนะนำ และตอบคำถาม \n\n\n\n\n\nCallum SawatzkyHumber PolytechnicInternational Recruitment Manager \n\n\n\n\nNitcha Khitchantasakun KPG OverseasConsultant and Service Coordinator \n\n\n\n\n\nCredit : Humber Polytechnic\n\nHumber Polytechnic ตั้งอยู่ที่เมือง Toronto รัฐ Ontario พร้อมมอบประสบการณ์การเรียนที่มุ่งเน้นทั้งภาคทฤษฎีและภาคปฏิบัติ โดยผสมผสานทักษะการแก้ปัญหาและการศึกษาแนวโน้มล่าสุดของแต่ละภาคอุตสาหกรรม ได้รับโอกาสในการเรียนรู้จากประสบการณ์ที่หลากหลาย ตั้งแต่การฝึกงาน โครงการวิจัย และอื่นๆ อีกมากมาย ซึ่งจะมีส่วนช่วยให้ผู้เรียนได้เข้าใกล้และประสบความสำเร็จกับอาชีพในฝันเมื่อสำเร็จการศึกษา \n\nจุดเด่นของ Humber Polytechnic \n\n• มีนักศึกษา full-time มากกว่า 33\,000 คน ในแต่ละปี• นักศึกษาต่างชาติมากกว่า 6\,500 คน จากกว่า 130 ประเทศ• 200+ full-time programs ให้เลือกเรียน• อัตราการจ้างงานสำหรับผู้ที่เรียนจบภายใน 6 เดือน สูงถึง 85.4%• 97% ของผู้ว่าจ้าง เชื่อว่านักศึกษาจาก Humber มีความสามารถและพร้อมสำหรับการทำงาน• 50+ ชมรมให้เลือกเข้าร่วม\, มีทีมกีฬา และกิจกรรมต่างๆ อีกมากมาย• มีบริการให้คำปรึกษาด้านการหางาน รวมถึงกิจกรรมและเวิร์คช็อปเพื่อเตรียมความพร้อมสำหรับการทำงาน• สามารถทำงาน Part-time ระหว่างเรียนได้ ทั้งภายในและภายนอกแคมปัส• สามารถขอใบอนุญาตทำงานหลังเรียนจบ (PGWP) \n\nเพิ่มเติมเกี่ยวกับ Humber Polytechnic คลิก \n\nPhoto Credits : Humber Polytechnic \n\n\nแบบฟอร์มลงทะเบียน \n\nงานสัมมนานี้ได้ผ่านไปเป็นที่เรียบร้อยแล้ว สนใจติดตามงานสัมมนาอื่นได้เร็วๆ นี้ คลิกที่นี่สอบถามข้อมูลเพิ่มเติม ติดต่อเราได้ที่ LINE OA: @korpungun
URL:https://hub.korpungun.com/event/humber-polytechnic-webinar/
ATTACH;FMTTYPE=image/jpeg:https://hub.korpungun.com/wp-content/uploads/2025/01/Humber-Polytechnic-Webinar-SAT.-15.02.25.jpeg
END:VEVENT
BEGIN:VEVENT
DTSTART;TZID=Asia/Bangkok:20250222T100000
DTEND;TZID=Asia/Bangkok:20250222T113000
DTSTAMP:20260424T055627
CREATED:20221227T091727Z
LAST-MODIFIED:20250222T041351Z
UID:6046-1740218400-1740223800@hub.korpungun.com
SUMMARY:Webinar เรียนต่อ NAIT - Edmonton แคนาดา จบแล้วขอ PGWP ได้
DESCRIPTION:สัมมนาออนไลน์ เรียนต่อแคนาดา NAIT Northern Alberta Institute of Technologyเมือง Edmonton รัฐ Alberta \n\nร่วมพูดคุยกับเจ้าหน้าที่สถาบัน Northern Alberta Institute of Technology (NAIT) แบบออนไลน์ผ่าน Zoom สถาบันนี้เป็นวิทยาลัยด้านเทคโนโลยีในใจกลางเมือง Edmonton รัฐ Alberta แคนาดา มี 30+ หลักสูตรที่สามารถขอใบอนุญาตทำงานชั่วคราวได้หลังเรียนจบได้ (PGWP) ทั้งในระดับป.ตรี Certificate และ Diploma วิทยาลัยนี้เน้นการลงมือทำในสัดส่วนที่เท่ากับการเรียนทฤษฎี เหมาะกับนักเรียนที่ชื่นชอบภาคปฏิบัติและต้องการเตรียมความพร้อมในการประกอบอาชีพจริง \n\nวันเสาร์ที่ 22 กุมภาพันธ์ 2568เวลา 10:00 – 11:30 น.*ตามเวลาในประเทศไทย \n\nผ่านโปรแกรม ZOOM Cloud Meetingsลงทะเบียนเพื่อรับ Zoom Meeting ID คลิก \n\n\n\n\n  \n\nสอบถามข้อมูลเพิ่มเติมติดต่อ Line : @korpungun \n\n\n\n\nฟรี ! ไม่มีค่าใช้จ่าย แนะนำสำหรับ \n\nผู้ปกครองและนักเรียนที่มีความสนใจในการเรียนต่อแคนาดาที่ NAIT ในหลักสูตรดังต่อไปนี้ \n\n• Bachelor’s Degree (2 – 4 ปี)• Diploma (1 – 2 ปี)• Certificate (1 – 2 ปี) \n\n\nหัวข้อที่จะให้ข้อมูลและแนะนำ \n\n• แนะนำสถาบัน NAIT– บรรยากาศสถาบันและสถานที่ตั้ง• หลักสูตรแนะนำสำหรับนักศึกษาต่างชาติ– สาขาที่สามารถขอ PGWP ได้– สาขายอดฮิตสำหรับนักศึกษาไทย• การสมัครเข้าเรียน– เอกสารและผลทดสอบภาษาอังกฤษ• บริการสำหรับนักศึกษาต่างชาติ– ทุนการศึกษา– Academic Advisor– Immigration Workshops– บริการที่พัก• Q&A \n\n\nผู้ร่วมแบ่งปันข้อมูลให้คำแนะนำ และตอบคำถาม \n\n\n\n\n\nJunko KamimuraNAITInternational Recruitment Specialist \n\n\n\n\nNitcha Khitchantasakun KPG OverseasConsultant and Service Coordinator \n\n\n\n\n\nCredit : NAIT\n\nNorthern Alberta Institute of Technology (NAIT) วิทยาลัยด้านเทคโนโลยีในใจกลางเมือง Edmonton รัฐ Alberta ที่เน้นการลงมือทำในสัดส่วนที่เท่ากับการเรียนทฤษฎี เหมาะกับนักเรียนที่ชื่นชอบภาคปฏิบัติและต้องการเตรียมความพร้อมในการประกอบอาชีพจริง โดดเด่นด้านหลักสูตรสายอาชีพ เน้นเตรียมความพร้อมสำหรับการหางานหลังเรียนจบ โดยเฉพาะด้าน Engineering\, I.T.\, Business ตั้งอยู่ในเมือง Edmonton รัฐ Alberta เปิดสอน Bachelor’s Degree\, Diploma\, Certificate ขอใบอนุญาตทำงานหลังเรียนจบ (PGWP) ได้ \n\nจุดเด่นของ Northern Alberta Institute of Technology (NAIT) \n\n• ได้รับการโหวตให้เป็น #1 แคมปัสที่ปลอดภัยที่สุด โดยนักศึกษาต่างชาติ• การประเมิณความพึงพอใจของนายจ้างที่ว่าจ้างนักศึกษาจาก NAIT อยู่ที่ระดับ 98%• 86% ของนักเรียนได้รับการว่าจ้างเข้าทำงาน• ชั้นเรียนขนาดเล็ก ประกอบด้วยนักศึกษา 20-40 คน• สัดส่วนการเรียนทฤษฎีต่อการปฏิบัติจริงอยู่ที่ 50/50• นักศึกษามีโอกาสได้ศึกษาและทำงานร่วมกับบริษัทในวงการธุรกิจนั้นๆ• นักศึกษาต่างชาติถึง 2\,200 คน จาก 88 ประเทศทั่วโลก• นักศึกษาต่างชาติมีโอกาสได้รับวีซ่าทำงานสูง เนื่องจาก NAIT นั้นเป็นสถานศึกษาที่ทางรัฐบาลยกย่อง• ค่าครองชีพและอัตราภาษีที่ต่ำกว่าเมืองอื่นๆในแคนาดา• เมือง Edmonton มีการจัดเทศกาลมากกว่า 30 งานต่อปี• สามารถขอใบอนุญาตทำงานหลังเรียนจบ (PGWP) เมื่อสำเร็จการศึกษาตามเงื่อนไขที่กำหนด \n\nเพิ่มเติมเกี่ยวกับ NAIT คลิก \n\nPhoto Credits : Northern Alberta Institute of Technology (NAIT) \n\n\nแบบฟอร์มลงทะเบียน \n\nงานสัมมนานี้ได้ผ่านไปเป็นที่เรียบร้อยแล้ว สนใจติดตามงานสัมมนาอื่นได้เร็วๆ นี้ คลิกที่นี่สอบถามข้อมูลเพิ่มเติม ติดต่อเราได้ที่ LINE OA: @korpungun
URL:https://hub.korpungun.com/event/nait-webinar/
ATTACH;FMTTYPE=image/jpeg:https://hub.korpungun.com/wp-content/uploads/2022/12/NAIT-Webinar-SAT.-22.02.25.jpeg
END:VEVENT
END:VCALENDAR