BEGIN:VCALENDAR
VERSION:2.0
PRODID:-//KPG Hubs by KorPunGun Co.,Ltd. - ECPv6.10.1.1//NONSGML v1.0//EN
CALSCALE:GREGORIAN
METHOD:PUBLISH
X-WR-CALNAME:KPG Hubs by KorPunGun Co.,Ltd.
X-ORIGINAL-URL:https://hub.korpungun.com
X-WR-CALDESC:Events for KPG Hubs by KorPunGun Co.,Ltd.
REFRESH-INTERVAL;VALUE=DURATION:PT1H
X-Robots-Tag:noindex
X-PUBLISHED-TTL:PT1H
BEGIN:VTIMEZONE
TZID:Asia/Bangkok
BEGIN:STANDARD
TZOFFSETFROM:+0700
TZOFFSETTO:+0700
TZNAME:+07
DTSTART:20250101T000000
END:STANDARD
END:VTIMEZONE
BEGIN:VEVENT
DTSTART;TZID=Asia/Bangkok:20250302T140000
DTEND;TZID=Asia/Bangkok:20250302T160000
DTSTAMP:20260424T040848
CREATED:20230314T103026Z
LAST-MODIFIED:20250303T014932Z
UID:6284-1740924000-1740931200@hub.korpungun.com
SUMMARY:Coffee Chat เรียนต่อและทำงานในแคนาดา กับ Seneca Polytechnic - Toronto
DESCRIPTION:สัมมนาเรียนต่อแคนาดา Seneca Polytechnicเมือง Toronto รัฐ Ontario \n\nร่วมพูดคุยกับเจ้าหน้าที่สถาบัน Seneca Polytechnic ที่นี่ติดอันดับ #1 วิทยาลัยในรัฐ Ontario ที่มี pathway ร่วมกับมหาวิทยาลัยในแคนาดาและทั่วโลก มี 160+ full-time programs และตัวเลือกอาชีพกว่า 500 รายการ เด่นด้าน Animation and Art Design\, Business\, IT และ Engineering วิทยาลัยนี้เป็นสถาบันอุดมศึกษาของรัฐ (Public College) พร้อมมอบประสบการณ์การเรียนทั้งในและนอกห้องเรียนโดยเน้นผู้เรียนเป็นศูนย์กลาง และสามารถขอใบอนุญาตทำงานหลังเรียนจบได้ (PGWP) \n\nวันอาทิตย์ที่ 2 มีนาคม 2568เวลา 14:00 – 16:00 น. \n\nสถานที่จัดงานTrue Space Siam Square Soi 2 (ห้องประชุมชั้น 3)ใกล้ BTS สยาม Exit 2 (เดิน 2 นาที)(คลิกเพื่อรับชมแผนที่) \n\nลงทะเบียน เพื่อรับอีเมลยืนยันการเข้าร่วมงาน คลิก \n\n\n\n\n  \n\nสอบถามข้อมูลเพิ่มเติมติดต่อ Line : @korpungun \n\n\n\n\nฟรี ! ไม่มีค่าใช้จ่าย แนะนำสำหรับ \n\nผู้ปกครองและนักเรียนที่มีความสนใจในการเรียนต่อแคนาดาที่ Seneca Polytechnic ในหลักสูตรดังต่อไปนี้ \n\n• Honors Bachelor’s Degree (4 ปี)• Graduate Certificate (1 – 2 ปี)• Diploma (2 – 3 ปี)• Seneca’s English Language Institute (ELI) \n\n\nหัวข้อที่จะให้ข้อมูลและแนะนำ \n\n• แนะนำสถาบัน วิทยาเขต และสถานที่ตั้ง• หลักสูตรและสาขาที่สามารถขอ PGWP ได้• ขั้นตอนการสมัครเข้าเรียน• บริการสำหรับนักศึกษาต่างชาติ• Q&A \n\n\nผู้ร่วมแบ่งปันข้อมูลให้คำแนะนำ และตอบคำถาม \n\n\n\n\n\nJoy KwonSeneca PolytechnicBusiness Development Manager \n\n\n\n\nNitcha Khitchantasakun KPG OverseasConsultant and Service Coordinator \n\n\n\n\n\nCredit : Seneca Polytechnic\n\nSeneca Polytechnic ก่อตั้งขึ้นในปี 1967 สถาบันอุดมศึกษาของรัฐ (Public College) ตั้งอยู่ที่เมือง Toronto รัฐ Ontario พร้อมมอบประสบการณ์การเรียนทั้งในและนอกห้องเรียนโดยเน้นผู้เรียนเป็นศูนย์กลาง เรียนรู้จากคณาจารย์คุณภาพที่มีประสบการณ์ตรงจากแต่ละสายงาน ผู้เรียนสามารถนำความรู้ที่ได้ไปใช้สำหรับประกอบอาชีพในสายงานที่ต้องการได้อย่างมีประสิทธิภาพ \n\nจุดเด่นของ Seneca Polytechnic \n\n• ติดอันดับ TOP 4 in the world ในโปรแกรมการเรียนด้าน Animation and Art design• ติดอันดับ #1 วิทยาลัยในรัฐ Ontario ที่มี pathway ร่วมกับมหาวิทยาลัยในแคนาดาและทั่วโลก• มีโปรแกรมการเรียนด้าน Business\, IT และ Engineering ที่มีชื่อเสียง• สามารถทำงานในช่วง Co-op และ Work Terms และสมัครทำงาน part-time ภายในแคมปัสได้• สามารถขอใบอนุญาตทำงานหลังเรียนจบ (PGWP)• มีนักศึกษา full-time มากกว่า 30\,000 คน ในแต่ละปี• นักศึกษาต่างชาติมากกว่า 9\,000 คน จากกว่า 150 ประเทศ \n\nเพิ่มเติมเกี่ยวกับ Seneca Polytechnic คลิก \n\nPhoto Credits : Seneca Polytechnic \n\n\nแบบฟอร์มลงทะเบียน \n\nงานสัมมนานี้ได้ผ่านไปเป็นที่เรียบร้อยแล้ว สนใจติดตามงานสัมมนาอื่นได้เร็วๆ นี้ คลิกที่นี่สอบถามข้อมูลเพิ่มเติม ติดต่อเราได้ที่ LINE OA: @korpungun
URL:https://hub.korpungun.com/event/seneca-polytechnic-seminar/
ATTACH;FMTTYPE=image/jpeg:https://hub.korpungun.com/wp-content/uploads/2023/03/Seneca-Polytechnic-Seminar-SUN.-02.03.25.jpeg
END:VEVENT
BEGIN:VEVENT
DTSTART;TZID=Asia/Bangkok:20250315T100000
DTEND;TZID=Asia/Bangkok:20250315T113000
DTSTAMP:20260424T040848
CREATED:20250304T091724Z
LAST-MODIFIED:20250315T043049Z
UID:8552-1742032800-1742038200@hub.korpungun.com
SUMMARY:Webinar เรียนต่อป.โทอเมริกา MBA & Business Analytics ที่ Seattle University
DESCRIPTION:สัมมนาออนไลน์ เรียนต่ออเมริกา Seattle Universityเมือง Seattle รัฐ Washington \n\nร่วมพูดคุยแบบออนไลน์ผ่าน Zoom กับเจ้าหน้าที่สถาบัน Seattle University ถึงหลักสูตรปริญญาโทที่โดดเด่น Master of Science in Business Analytics และ Master of Business Administration (MBA) – Early Career MBA\, Professional MBA\, MBA in Sport and Entertainment Management และ Leadership Executive MBA สถาบันนี้เป็นมหาวิทยาลัยเอกชน ติดอันดับ 152 ของประเทศ ตั้งอยู่ใจกลางเมือง Seattle รัฐ Washington ซึ่งถือเป็นหนึ่งในมหาวิทยาลัยที่มีโลเคชั่นที่ดีที่สุดของอเมริกา \n\nวันเสาร์ที่ 15 มีนาคม 2568เวลา 10:00 – 11:30 น.*ตามเวลาในประเทศไทย \n\nผ่านโปรแกรม ZOOM Cloud Meetingsลงทะเบียนเพื่อรับ Zoom Meeting ID คลิก \n\n\n\n\n  \n\nสอบถามข้อมูลเพิ่มเติมติดต่อ Line : @korpungun \n\n\n\n\nฟรี ! ไม่มีค่าใช้จ่าย แนะนำสำหรับ \n\nผู้ปกครองและนักเรียนที่มีความสนใจในการเรียนต่ออเมริกาที่ Seattle University ในหลักสูตรดังต่อไปนี้ \n\n• Master of Science in Business Analytics (STEM-designated)– ระยะเวลาหลักสูตร : 1.5-2 ปี– ขอใบอนุญาตทำงานหลังเรียนจบได้ (OPT) สูงสุด 3 ปี– หลักสูตรปริญญาโทด้านการวิเคราะห์ธุรกิจ เรียนรู้การสื่อสารและการแสดงข้อมูลในรูปแบบภาพ โมเดลทางคณิตศาสตร์ การขุดข้อมูลสำหรับปัญญาทางธุรกิจ และการเขียนโปรแกรมสำหรับการวิเคราะห์ทางธุรกิจ• Master of Business Administration (MBA)\, Early Career– ระยะเวลาหลักสูตร : 1 ปี– ขอใบอนุญาตทำงานหลังเรียนจบได้ (OPT) สูงสุด 1 ปี– เหมาะสำหรับนักศึกษาที่มีวุฒิป.ตรีในด้านที่ไม่ใช่สาขาธุรกิจ และมีประสบการณ์การทำงานที่จำกัด หลักสูตรได้รับการออกแบบมาเพื่อสร้างพื้นฐานและหลักการทางธุรกิจ \n\n• Master of Business Administration (MBA)\, Professional– ระยะเวลาหลักสูตร : 1.5-2 ปี– ขอใบอนุญาตทำงานหลังเรียนจบได้ (OPT) สูงสุด 1 ปี– เรียนรู้การเป็นผู้นำและทักษะผู้บริหาร ผ่านการฝึกฝนใน “Leadership Challenges” กว่า 17 แบบ เหมาะสำหรับนักศึกษาต่างชาติ และนักศึกษาที่มีพื้นฐานและประสบการณ์การทำงานด้านบริหารธุรกิจมาเรียบร้อยแล้ว \n\n• Master of Business Administration (MBA)\, Sport and Entertainment Management– ระยะเวลาหลักสูตร : 2 ปี– ขอใบอนุญาตทำงานหลังเรียนจบได้ (OPT) สูงสุด 1 ปี– หลักสูตรการบริหารธุรกิจในอุตสาหกรรมการกีฬาและความบันเทิง ครอบคลุมข้อมูลเชิงลึกเกี่ยวกับการตลาดกีฬา การจัดการงานอีเวนต์ และการเงินขององค์กรกีฬา บริษัทบันเทิง และสื่อดิจิทัล \n\n• Master of Business Administration (MBA)\, Leadership Executive– ระยะเวลาหลักสูตร : 1.5-2 ปี– ขอใบอนุญาตทำงานหลังเรียนจบได้ (OPT) สูงสุด 1 ปี– หลักสูตรนี้ออกแบบมาสำหรับมืออาชีพที่ต้องการเพิ่มประสบการณ์เพื่อเตรียมพร้อมสำหรับการเป็นผู้บริหารขั้นสูง นักศึกษาควรมีประสบการณ์เฉพาะมาก่อน และเข้าศึกษาต่อเพื่อพัฒนาทักษะการคิดเชิงกลยุทธ์ ปรับปรุงการตัดสินใจของผู้บริหาร และเพิ่มความเข้าใจเกี่ยวกับพลวัตทางธุรกิจระดับโลก \n\n\nหัวข้อที่จะให้ข้อมูลและแนะนำ \n\n• แนะนำสถาบัน Seattle University– บรรยากาศสถาบันและสถานที่ตั้ง• หลักสูตรป.โทแนะนำ– Master of Science in Business Analytics– Master of Business Administration (MBA) 4 สาขา• การสมัครเข้าเรียน– เอกสารเบื้องต้นและผลทดสอบภาษาอังกฤษ• บริการสำหรับนักศึกษาต่างชาติ– ทุนการศึกษา– บริการที่พัก– Academic Advisor• Q&A \n\n\nผู้ร่วมแบ่งปันข้อมูลให้คำแนะนำ และตอบคำถาม \n\n\n\nCarolyn Auvil CubillosSeattle UniversitySenior Graduate Student Recruiter \n\n\n\nTisa SomsapKPG OverseasMarketer and Consultant \n\n\n\n\nCredit : Seattle University\n\nเรียนต่ออเมริกา Seattle University (SU) ติดอันดับ 152 มหาวิทยาลัยที่ดีที่สุดในอเมริกาด้านคุณภาพการสอนและหลักสูตรการเรียน จัดโดย U.S. News “Best National University Rankings 2025” ตั้งอยู่บนพื้นที่ขนาดใหญ่ที่ย่าน Capitol Hill ใจกลางเมือง Seattle รัฐ Washington มีทุนการศึกษามอบให้นักศึกษานานาชาติ มีหลักสูตรปริญญาตรี และปริญญาโท โดดเด่นด้าน Business – Management and Marketing\, Health Science\, Biology\, Computer Science and Informatics และ Engineering \n\nจุดเด่นของ Seattle University (SU) \n\n• เป็นหนึ่งในไม่กี่มหาวิทยาลัยที่มีวิทยาเขตหลักใจกลางเมืองใหญ่อย่าง downtown Seattle สามารถเดินทางด้วยรถไฟฟ้าได้อย่างสะดวกสะบาย• Seattle ขึ้นชื่อว่าเป็น tech hub สำคัญของอเมริกา เป็นที่ตั้งของสำนักงานใหญ่ของบริษัทระดับโลก เช่น Microsoft\, Facebook\, Starbucks\, Amazon และ Boeing• นักศึกษากว่า 97% สามารถหางานได้ หรือได้รับการตอบรับเข้าเรียนต่อปริญญาโทภายใน 6 เดือนหลังเรียนจบ• อัตราส่วนคณาจารย์ 1 คน ต่อนักศึกษา 11 คน• จำนวนนักศึกษาโดยเฉลี่ยห้องละไม่เกิน 18 คน• มีอัตราส่วนของนักศึกษาต่างชาติอยู่ที่ประมาณปีละ 10% และมาจากกว่า 70+ ประเทศทั่วโลก \n\nเพิ่มเติมเกี่ยวกับ Seattle University (SU) คลิก \n\nPhoto Credits : Seattle University (SU) \n\n\nแบบฟอร์มลงทะเบียน \n\nงานสัมมนานี้ได้ผ่านไปเป็นที่เรียบร้อยแล้ว สนใจติดตามงานสัมมนาอื่นได้เร็วๆ นี้ คลิกที่นี่สอบถามข้อมูลเพิ่มเติม ติดต่อเราได้ที่ LINE OA: @korpungun
URL:https://hub.korpungun.com/event/seattle-university-webinar/
ATTACH;FMTTYPE=image/jpeg:https://hub.korpungun.com/wp-content/uploads/2025/03/Seattle-University-Webinar-SAT.-15.03.25.jpeg
END:VEVENT
END:VCALENDAR